BEGIN:VCALENDAR
VERSION:2.0
PRODID:-//International Design Source - ECPv6.15.17.1//NONSGML v1.0//EN
CALSCALE:GREGORIAN
METHOD:PUBLISH
X-ORIGINAL-URL:https://ids1.com
X-WR-CALDESC:Events for International Design Source
REFRESH-INTERVAL;VALUE=DURATION:PT1H
X-Robots-Tag:noindex
X-PUBLISHED-TTL:PT1H
BEGIN:VTIMEZONE
TZID:America/New_York
BEGIN:DAYLIGHT
TZOFFSETFROM:-0500
TZOFFSETTO:-0400
TZNAME:EDT
DTSTART:20250309T070000
END:DAYLIGHT
BEGIN:STANDARD
TZOFFSETFROM:-0400
TZOFFSETTO:-0500
TZNAME:EST
DTSTART:20251102T060000
END:STANDARD
BEGIN:DAYLIGHT
TZOFFSETFROM:-0500
TZOFFSETTO:-0400
TZNAME:EDT
DTSTART:20260308T070000
END:DAYLIGHT
BEGIN:STANDARD
TZOFFSETFROM:-0400
TZOFFSETTO:-0500
TZNAME:EST
DTSTART:20261101T060000
END:STANDARD
BEGIN:DAYLIGHT
TZOFFSETFROM:-0500
TZOFFSETTO:-0400
TZNAME:EDT
DTSTART:20270314T070000
END:DAYLIGHT
BEGIN:STANDARD
TZOFFSETFROM:-0400
TZOFFSETTO:-0500
TZNAME:EST
DTSTART:20271107T060000
END:STANDARD
END:VTIMEZONE
BEGIN:VEVENT
DTSTART;TZID=America/New_York:20260224T150000
DTEND;TZID=America/New_York:20260224T170000
DTSTAMP:20260419T081600
CREATED:20260203T200757Z
LAST-MODIFIED:20260211T205642Z
UID:5294-1771945200-1771952400@ids1.com
SUMMARY:Design Edge Preview - Naples
DESCRIPTION:Insight\, dialogue\, and connection—without leaving Florida.\nThis conversation-driven event centers on a live panel discussion with respected voices from the Florida design community\, exploring the business realities\, relationships\, and human dynamics shaping today’s design industry—and what those dynamics mean for what comes next. \nDesign Edge is an exclusive\, to-the-trade experience that connects interior designers with premium home furnishings manufacturers in a regional format\, eliminating the need for cross-country travel and overwhelming show floors. This Design Edge Preview and Panel Discussion offers an introduction to that model through dialogue rather than a traditional market experience\, setting the stage for the larger connection event ahead. \nJoin us for thoughtful conversation\, industry perspective you can apply immediately\, and an easy late-afternoon gathering with drinks and light fare. \nThis event will be followed by the Home & Design Spring 2026 Launch Party\, hosted by Spazio Marble located at 1958 Trade Center Way from 5-8pm. [RSVP] \n  \n\nMeet the Panelists\nTracee Murphy\nTracee Murphy is an interior designer and industry connector with a strong focus on strategic sourcing\, professional development\, and community leadership. Her work sits at the intersection of design practice\, business insight\, and collaborative growth. \nLaurie Laizure\nLaurie Laizure is an interior designer\, podcaster\, and business strategist known for helping creatives translate talent into thriving enterprises. Her work focuses on pricing\, positioning\, and systems—empowering designers to lead with confidence in a changing marketplace. \nInterior Design Community\nInterior Design Community (IDC) is a professional organization dedicated to advancing the business\, leadership\, and collective voice of interior designers. Through education\, conversation\, and community-building\, IDC supports designers navigating both creative and commercial realities. \n  \n\n  \nRSVP for Design Edge
URL:https://ids1.com/events/02-26-dep-n/
LOCATION:Fabric\, Marketplace & Rugs\, 2016 Trade Center Way\, Naples\, 34109\, United States
CATEGORIES:Special Event
ATTACH;FMTTYPE=image/jpeg:https://ids1.com/wp-content/uploads/2026/02/02-2026-DesignEdgePreview-Banner-2560-1378.jpg
END:VEVENT
BEGIN:VEVENT
DTSTART;TZID=America/New_York:20260223T160000
DTEND;TZID=America/New_York:20260223T180000
DTSTAMP:20260419T081600
CREATED:20260203T195721Z
LAST-MODIFIED:20260203T195721Z
UID:5287-1771862400-1771869600@ids1.com
SUMMARY:Design Edge Preview - Sarasota
DESCRIPTION:Insight\, dialogue\, and connection—without leaving Florida.\nThis conversation-driven event centers on a live panel discussion with respected voices from the Florida design community\, exploring the business realities\, relationships\, and human dynamics shaping today’s design industry—and what those dynamics mean for what comes next. \nDesign Edge is an exclusive\, to-the-trade experience that connects interior designers with premium home furnishings manufacturers in a regional format\, eliminating the need for cross-country travel and overwhelming show floors. This Design Edge Preview and Panel Discussion offers an introduction to that model through dialogue rather than a traditional market experience\, setting the stage for the larger connection event ahead. \nJoin us for thoughtful conversation\, industry perspective you can apply immediately\, and an easy late-afternoon gathering with drinks and light fare. \n  \n\nMeet the Panelists\nPam Durkin\nPam Durkin is an interior designer\, educator\, and strategic voice in the design industry. Through coaching\, speaking\, and thought leadership\, she helps designers build sustainable\, profitable practices—bridging creative excellence with business clarity and long-term growth. \nLaurie Laizure\nLaurie Laizure is an interior designer\, podcaster\, and business strategist known for helping creatives translate talent into thriving enterprises. Her work focuses on pricing\, positioning\, and systems—empowering designers to lead with confidence in a changing marketplace. \n  \n\n  \nRSVP for Design Edge
URL:https://ids1.com/events/02-26-dep-s/
LOCATION:Marketplace\, 1781 Independence Blvd.\, Sarasota\, FL\, 34234\, United States
CATEGORIES:Special Event
ATTACH;FMTTYPE=image/jpeg:https://ids1.com/wp-content/uploads/2026/02/02-2026-DesignEdgePreview-Banner-2560-1378.jpg
END:VEVENT
BEGIN:VEVENT
DTSTART;TZID=America/New_York:20260212T170000
DTEND;TZID=America/New_York:20260212T190000
DTSTAMP:20260419T081600
CREATED:20260114T194527Z
LAST-MODIFIED:20260114T194619Z
UID:5248-1770915600-1770922800@ids1.com
SUMMARY:Bubbles And Bourbon - Naples
DESCRIPTION:Celebrate design\, love\, and inspiration with us!\nJoin us for a special early Valentine’s Day celebration as we unveil stunning new designs and inspirations! Discover the latest introductions from Vanguard Furniture\, including the new Lookbook and the customizable Make It Yours Dining Program. Explore exquisite pieces from Wendover Art\, Kevin O’Brien\, and Hudson Valley Lighting\, all curated to spark creativity and style. \nSip and savor sparkling wines from around the world\, hand-selected by sommelier and Vanguard representative Harry Trachtenberg\, or enjoy bespoke bourbon craft cocktails in a festive\, elegant setting. Don’t miss your chance to win beautiful door prizes from our featured brands throughout the evening. \nRSVP for Bubbles and Bourbon
URL:https://ids1.com/events/02-26-bb-n/
LOCATION:Contemporary\, 1939 Trade Center Way\, Naples\, FL\, 34109\, United States
CATEGORIES:Special Event
ATTACH;FMTTYPE=image/jpeg:https://ids1.com/wp-content/uploads/2026/01/02-2026-BubblesBourboun-EventBanner-2560-1378.jpg
END:VEVENT
END:VCALENDAR